Workbook

Sheet 참가신청서(성인부)
A1: 제14회 전라남도지사배 수영대회 참가 신청서 (성인부)
A3: 1. 참가 단체
A4: 시군명 | F4: 클럽명
A5: 감독 | C5: H.P | F5: 코치 | H5: H.P
A7: 2. 참가 인원 (총 참가 인원 : 명)
A8: 구 분 | C8: 남 자 | E8: 여 자
A9: 성 인 부 | C9: 명 | E9: 명
A11: ※ 신청서 작성 요령
A12: 1. 신청서 작성은 아래 양식에 맞추어 작성해 주시기 바랍니다. (양식 변경 금지) 2. 종목 칸은 자유형, 접영, 평영, 배영,개인혼영 으로 작성. 3. 1인 2종목만 신청할 수 있으며(단체 종목은 제외), 한 팀(소속)에서 종목별 참가 인원 제한은 없습니다. 4. 성인부 신청서의 나이와 그룹 칸은 생년월일 (6자리로 입력) 입력값에 따라 자동으로 기재됩니다.
A14: 순서 | B14: 성명 | C14: 성별 | D14: 생년월일 | E14: 참가종목1 | F14: 참가종목2 | G14: 나이 | H14: 그룹 | I14: 비고
A15: 예) | B15: 김OO | C15: 남 | D15: 830505 | E15: 자유형 | F15: 배영 | G15: =IFERROR(IF(LEFT(D15,2)<=LEFT(YEAR(TODAY()),2),YEAR(TODAY())-LEFT(D15,2)-2000+1,YEAR(TODAY())-LEFT(D15,2)-1900+1),"") -> 43 | H15: =IFERROR(VLOOKUP(G15,그룹테이블!$B$2:$C$8,2,TRUE),"") -> 3G | I15: 예시
A16: 1 | G16: =IFERROR(IF(LEFT(D16,2)<=LEFT(YEAR(TODAY()),2),YEAR(TODAY())-LEFT(D16,2)-2000+1,YEAR(TODAY())-LEFT(D16,2)-1900+1),"") | H16: =IFERROR(VLOOKUP(G16,그룹테이블!$B$2:$C$8,2,TRUE),"")
A17: 2 | G17: =IFERROR(IF(LEFT(D17,2)<=LEFT(YEAR(TODAY()),2),YEAR(TODAY())-LEFT(D17,2)-2000+1,YEAR(TODAY())-LEFT(D17,2)-1900+1),"") | H17: =IFERROR(VLOOKUP(G17,그룹테이블!$B$2:$C$8,2,TRUE),"")
A18: 3 | G18: =IFERROR(IF(LEFT(D18,2)<=LEFT(YEAR(TODAY()),2),YEAR(TODAY())-LEFT(D18,2)-2000+1,YEAR(TODAY())-LEFT(D18,2)-1900+1),"") | H18: =IFERROR(VLOOKUP(G18,그룹테이블!$B$2:$C$8,2,TRUE),"")
A19: 4 | G19: =IFERROR(IF(LEFT(D19,2)<=LEFT(YEAR(TODAY()),2),YEAR(TODAY())-LEFT(D19,2)-2000+1,YEAR(TODAY())-LEFT(D19,2)-1900+1),"") | H19: =IFERROR(VLOOKUP(G19,그룹테이블!$B$2:$C$8,2,TRUE),"")
A20: 5 | G20: =IFERROR(IF(LEFT(D20,2)<=LEFT(YEAR(TODAY()),2),YEAR(TODAY())-LEFT(D20,2)-2000+1,YEAR(TODAY())-LEFT(D20,2)-1900+1),"") | H20: =IFERROR(VLOOKUP(G20,그룹테이블!$B$2:$C$8,2,TRUE),"")
A21: 6 | G21: =IFERROR(IF(LEFT(D21,2)<=LEFT(YEAR(TODAY()),2),YEAR(TODAY())-LEFT(D21,2)-2000+1,YEAR(TODAY())-LEFT(D21,2)-1900+1),"") | H21: =IFERROR(VLOOKUP(G21,그룹테이블!$B$2:$C$8,2,TRUE),"")
A22: 7 | G22: =IFERROR(IF(LEFT(D22,2)<=LEFT(YEAR(TODAY()),2),YEAR(TODAY())-LEFT(D22,2)-2000+1,YEAR(TODAY())-LEFT(D22,2)-1900+1),"") | H22: =IFERROR(VLOOKUP(G22,그룹테이블!$B$2:$C$8,2,TRUE),"")
A23: 8 | G23: =IFERROR(IF(LEFT(D23,2)<=LEFT(YEAR(TODAY()),2),YEAR(TODAY())-LEFT(D23,2)-2000+1,YEAR(TODAY())-LEFT(D23,2)-1900+1),"") | H23: =IFERROR(VLOOKUP(G23,그룹테이블!$B$2:$C$8,2,TRUE),"")
A24: 9 | G24: =IFERROR(IF(LEFT(D24,2)<=LEFT(YEAR(TODAY()),2),YEAR(TODAY())-LEFT(D24,2)-2000+1,YEAR(TODAY())-LEFT(D24,2)-1900+1),"") | H24: =IFERROR(VLOOKUP(G24,그룹테이블!$B$2:$C$8,2,TRUE),"")
A25: 10 | G25: =IFERROR(IF(LEFT(D25,2)<=LEFT(YEAR(TODAY()),2),YEAR(TODAY())-LEFT(D25,2)-2000+1,YEAR(TODAY())-LEFT(D25,2)-1900+1),"") | H25: =IFERROR(VLOOKUP(G25,그룹테이블!$B$2:$C$8,2,TRUE),"")
A26: 11 | G26: =IFERROR(IF(LEFT(D26,2)<=LEFT(YEAR(TODAY()),2),YEAR(TODAY())-LEFT(D26,2)-2000+1,YEAR(TODAY())-LEFT(D26,2)-1900+1),"") | H26: =IFERROR(VLOOKUP(G26,그룹테이블!$B$2:$C$8,2,TRUE),"")
A27: 12 | G27: =IFERROR(IF(LEFT(D27,2)<=LEFT(YEAR(TODAY()),2),YEAR(TODAY())-LEFT(D27,2)-2000+1,YEAR(TODAY())-LEFT(D27,2)-1900+1),"") | H27: =IFERROR(VLOOKUP(G27,그룹테이블!$B$2:$C$8,2,TRUE),"")
... A55: 40 | G55: =IFERROR(IF(LEFT(D55,2)<=LEFT(YEAR(TODAY()),2),YEAR(TODAY())-LEFT(D55,2)-2000+1,YEAR(TODAY())-LEFT(D55,2)-1900+1),"") | H55: =IFERROR(VLOOKUP(G55,그룹테이블!$B$2:$C$8,2,TRUE),"")

Sheet 그룹테이블
A1: 범위 | B1: 최소값 | C1: 그룹
A2: 1~29 | B2: 1 | C2: 1G
A3: 30~39 | B3: 30 | C3: 2G
A4: 40~46 | B4: 40 | C4: 3G
A5: 47~53 | B5: 47 | C5: 4G
A6: 54~60 | B6: 54 | C6: 5G
A7: 61~67 | B7: 61 | C7: 6G
A8: 68~ | B8: 68 | C8: 7G
