Workbook

Sheet 참가신청서
A1: 제30회 전라남도교육감기 시·군대항 수영대회 참가신청서
A2: 순서 | B2: 청번 | C2: 청명 | D2: 성명 | E2: 학교 | F2: 학년 | G2: 성별 | H2: 생년월일 | I2: 신청종목 | K2: 참가구분 | L2: 비고
I3: 참가종목
A4: 1 | B4: 15 | C4: 영암 | D4: 박건우 | E4: 영암초 | F4: 2 | G4: 남 | H4: 150407 | I4: 자유형50m | K4: 남저
A5: 2 | B5: 15 | C5: 영암 | D5: 박건우 | E5: 영암초 | F5: 2 | G5: 남 | H5: 150407 | I5: 배영50m | K5: 남저
A6: 3 | B6: 15 | C6: 영암 | D6: 이승환 | E6: 영암초 | F6: 2 | G6: 남 | H6: 150906 | I6: 자유형50m | K6: 남저
A7: 4 | B7: 15 | C7: 영암 | D7: 이승환 | E7: 영암초 | F7: 2 | G7: 남 | H7: 150906 | I7: 배영50m | K7: 남저
A8: 5 | B8: 15 | C8: 영암 | D8: 이지안 | E8: 영암초 | F8: 1 | G8: 여 | H8: 160305 | I8: 자유형50m | K8: 여저
A9: 6 | B9: 15 | C9: 영암 | D9: 이지안 | E9: 영암초 | F9: 1 | G9: 여 | H9: 160305 | I9: 배영50m | K9: 여저
A10: 7 | B10: 15 | C10: 영암 | D10: 신하은 | E10: 영암초 | F10: 1 | G10: 여 | H10: 160709 | I10: 자유형50m | K10: 여저
A11: 8 | B11: 15 | C11: 영암 | D11: 신하은 | E11: 영암초 | F11: 1 | G11: 여 | H11: 160709 | I11: 배영50m | K11: 여저
A12: 9 | B12: 15 | C12: 영암 | D12: 박소은 | E12: 영암초 | F12: 1 | G12: 여 | H12: 160426 | I12: 자유형50m | K12: 여저
A13: 10 | B13: 15 | C13: 영암 | D13: 박소은 | E13: 영암초 | F13: 1 | G13: 여 | H13: 160426 | I13: 배영50m | K13: 여저
A14: 11 | B14: 15 | C14: 영암 | D14: 김윤성 | E14: 영암초 | F14: 4 | G14: 남 | H14: 130614 | I14: 자유형50m | K14: 남유
A15: 12 | B15: 15 | C15: 영암 | D15: 김윤성 | E15: 영암초 | F15: 4 | G15: 남 | H15: 130614 | I15: 접영100m | K15: 남유
... A41: 38 | B41: 15 | C41: 영암 | D41: 최규온 | E41: 영암초 | F41: 5 | G41: 여 | H41: 120926 | I41: 배영50m | K41: 여초
A42: 39 | B42: 15 | C42: 영암 | D42: 김현민 | E42: 영암중학교 | F42: 1 | G42: 남 | H42: 2010.04.05 | I42: 자유형50m | K42: 남중
A43: 40 | B43: 15 | C43: 영암 | D43: 김현민 | E43: 영암중학교 | F43: 1 | G43: 남 | H43: 2010.04.05 | I43: 자유형100m | K43: 남중
A44: 41 | B44: 15 | C44: 영암 | D44: 양호 | E44: 영암중학교 | F44: 2 | G44: 남 | H44: 2009.02.01 | I44: 접영50m | K44: 남중
A45: 42 | B45: 15 | C45: 영암 | D45: 양호 | E45: 영암중학교 | F45: 2 | G45: 남 | H45: 2009.02.01 | I45: 배영100m | K45: 남중
A46: 43 | B46: 15 | C46: 영암 | D46: 김현준 | E46: 영암중학교 | F46: 3 | G46: 남 | H46: 2008.12.03 | I46: 평영50m | K46: 남중
A47: 44 | B47: 15 | C47: 영암 | D47: 김현준 | E47: 영암중학교 | F47: 3 | G47: 남 | H47: 2008.12.03 | I47: 평영100m | K47: 남중
A48: 45 | B48: 15 | C48: 영암 | D48: 이주환 | E48: 영암중학교 | F48: 3 | G48: 남 | H48: 2008.04.21 | I48: 배영50m | K48: 남중
A49: 46 | B49: 15 | C49: 영암 | D49: 이주환 | E49: 영암중학교 | F49: 3 | G49: 남 | H49: 2008.04.21 | I49: 접영100m | K49: 남중
A50: 47 | C50: 완도 | D50: 임채영 | E50: 완도수산고등학교 | F50: 1 | G50: 남 | H50: 2007.11.06 | I50: 자유형50m | K50: 남고
A51: 48 | B51: 16 | C51: 무안 | D51: 김현서 | E51: 전남체육고등학교 | F51: 1 | G51: 여 | H51: 07.05.30 | I51: 접영50m | K51: 여고
A52: 49 | B52: 16 | C52: 무안 | D52: 김현서 | E52: 전남체육고등학교 | F52: 1 | G52: 여 | H52: 07.05.30 | I52: 접영100m | K52: 여고
A53: 50 | B53: 16 | C53: 무안 | D53: 조화인 | E53: 전남체육고등학교 | F53: 1 | G53: 여 | H53: 07.07.07 | I53: 자유형100m | K53: 여고
A54: 51 | B54: 16 | C54: 무안 | D54: 조화인 | E54: 전남체육고등학교 | F54: 1 | G54: 여 | H54: 07.07.07 | I54: 자유형200m | K54: 여고
A55: 52 | B55: 16 | C55: 무안 | D55: 윤성준 | E55: 전남체육고등학교 | F55: 1 | G55: 남 | H55: 07.08.06 | I55: 평영100m | K55: 남고
A56: 53 | B56: 16 | C56: 무안 | D56: 윤성준 | E56: 전남체육고등학교 | F56: 1 | G56: 남 | H56: 07.08.06 | I56: 개인혼영200m | K56: 남고
A57: 54 | B57: 16 | C57: 무안 | D57: 강성재 | E57: 전남체육고등학교 | F57: 1 | G57: 남 | H57: 07.08.05 | I57: 자유형800m | K57: 남고
A58: 55 | B58: 16 | C58: 무안 | D58: 강성재 | E58: 전남체육고등학교 | F58: 1 | G58: 남 | H58: 07.08.05 | I58: 평영200m | K58: 남고
A59: 56 | B59: 16 | C59: 무안 | D59: 김수연 | E59: 전남체육고등학교 | F59: 2 | G59: 여 | H59: 06.01.13 | I59: 자유형50m | K59: 여고
A60: 57 | B60: 16 | C60: 무안 | D60: 김수연 | E60: 전남체육고등학교 | F60: 2 | G60: 여 | H60: 06.01.13 | I60: 배영50m | K60: 여고
A61: 58 | B61: 16 | C61: 무안 | D61: 김도윤 | E61: 전남체육고등학교 | F61: 2 | G61: 남 | H61: 06.06.30 | I61: 접영50m | K61: 남고
A62: 59 | B62: 16 | C62: 무안 | D62: 김도윤 | E62: 전남체육고등학교 | F62: 2 | G62: 남 | H62: 06.06.30 | I62: 접영100m | K62: 남고
... A81: 78 | B81: 1 | C81: 여수 | D81: 김정민 | E81: 여수중앙여자고등학교 | F81: 2 | G81: 여 | H81: 2006.06.01. | I81: 자유형100m | K81: 여고
A82: 79 | B82: 14 | C82: 해남 | D82: 신준율 | E82: 해남동초등학교 | F82: 2 | G82: 남 | H82: 150315 | I82: 배영50m | K82: 남저
A83: 80 | B83: 14 | C83: 해남 | D83: 신준율 | E83: 해남동초등학교 | F83: 2 | G83: 남 | H83: 150315 | I83: 자유형50m | K83: 남저
A84: 81 | B84: 14 | C84: 해남 | D84: 신준범 | E84: 해남동초등학교 | F84: 4 | G84: 남 | H84: 130307 | I84: 자유형50m | K84: 남유
A85: 82 | B85: 14 | C85: 해남 | D85: 신준범 | E85: 해남동초등학교 | F85: 4 | G85: 남 | H85: 130307 | I85: 자유형100m | K85: 남유
A86: 83 | B86: 14 | C86: 해남 | D86: 박승유 | E86: 해남동초등학교 | F86: 3 | G86: 남 | H86: 140702 | I86: 자유형50m | K86: 남유
A87: 84 | B87: 14 | C87: 해남 | D87: 박승유 | E87: 해남동초등학교 | F87: 3 | G87: 남 | H87: 140702 | I87: 자유형100m | K87: 남유
A88: 85 | B88: 14 | C88: 해남 | D88: 이한결 | E88: 해남동초등학교 | F88: 4 | G88: 여 | H88: 130327 | I88: 평영50m | K88: 여유
A89: 86 | B89: 14 | C89: 해남 | D89: 이한결 | E89: 해남동초등학교 | F89: 4 | G89: 여 | H89: 130327 | I89: 평영100m | K89: 여유
A90: 87 | B90: 14 | C90: 해남 | D90: 장서아 | E90: 해남동초등학교 | F90: 3 | G90: 여 | H90: 140617 | I90: 접영50m | K90: 여유
A91: 88 | B91: 14 | C91: 해남 | D91: 장서아 | E91: 해남동초등학교 | F91: 3 | G91: 여 | H91: 140617 | I91: 배영50m | K91: 여유
A92: 89 | B92: 14 | C92: 해남 | D92: 김소율 | E92: 해남동초등학교 | F92: 3 | G92: 여 | H92: 140124 | I92: 배영50m | K92: 여유
A93: 90 | B93: 14 | C93: 해남 | D93: 김소율 | E93: 해남동초등학교 | F93: 3 | G93: 여 | H93: 140124 | I93: 배영100m | K93: 여유
... A105: 102 | B105: 14 | C105: 해남 | D105: 김수현 | E105: 해남동초등학교 | F105: 5 | G105: 여 | H105: 130125 | I105: 배영100m | K105: 여초
A106: 103 | B106: 4 | C106: 나주 | D106: 이채이 | E106: 나주초등학교 | F106: 1 | G106: 여 | H106: 2016.01.06 | I106: 배영50m | K106: 여저
A107: 104 | B107: 4 | C107: 나주 | D107: 이채이 | E107: 나주초등학교 | F107: 1 | G107: 여 | H107: 2016.01.06 | I107: 자유형50m | K107: 여저
A108: 105 | B108: 4 | C108: 나주 | D108: 문소빈 | E108: 나주초등학교 | F108: 2 | G108: 여 | H108: 2015.05.02 | I108: 접영50m | K108: 여저
A109: 106 | B109: 4 | C109: 나주 | D109: 문소빈 | E109: 나주초등학교 | F109: 2 | G109: 여 | H109: 2015.05.02 | I109: 자유형50m | K109: 여저 | L109: 번외
A110: 107 | B110: 4 | C110: 나주 | D110: 김태헌 | E110: 나주중앙초등학교 | F110: 3 | G110: 남 | H110: 2014.09.03 | I110: 자유형50m | K110: 남유
A111: 108 | B111: 4 | C111: 나주 | D111: 김태헌 | E111: 나주중앙초등학교 | F111: 3 | G111: 남 | H111: 2014.09.03 | I111: 접영50m | K111: 남유
A112: 109 | B112: 4 | C112: 나주 | D112: 조윤아 | E112: 나주북초등학교 | F112: 2 | G112: 여 | H112: 2015.09.01 | I112: 평영50m | K112: 여저
A113: 110 | B113: 4 | C113: 나주 | D113: 조윤아 | E113: 나주북초등학교 | F113: 2 | G113: 여 | H113: 2015.09.01 | I113: 자유형50m | K113: 여저
A114: 111 | B114: 4 | C114: 나주 | D114: 송현겸 | E114: 빛가람초등학교 | F114: 1 | G114: 남 | H114: 2016.01.05. | I114: 배영50m | K114: 남저
A115: 112 | B115: 4 | C115: 나주 | D115: 이경탁 | E115: 빛가람초등학교 | F115: 1 | G115: 남 | H115: 2016.11.11. | I115: 자유형50m | K115: 남저
A116: 113 | B116: 4 | C116: 나주 | D116: 이경탁 | E116: 빛가람초등학교 | F116: 1 | G116: 남 | H116: 2016.11.11. | I116: 배영50m | K116: 남저
A117: 114 | B117: 4 | C117: 나주 | D117: 박지윤 | E117: 빛가람초등학교 | F117: 3 | G117: 여 | H117: 2014.04.17 | I117: 접영50m | K117: 여유
A118: 115 | B118: 4 | C118: 나주 | D118: 박지윤 | E118: 빛가람초등학교 | F118: 3 | G118: 여 | H118: 2014.04.17 | I118: 자유형50m | K118: 여유
A119: 116 | B119: 4 | C119: 나주 | D119: 김예서 | E119: 빛가람초등학교 | F119: 3 | G119: 여 | H119: 2014.11.15. | I119: 접영50m | K119: 여유
A120: 117 | B120: 4 | C120: 나주 | D120: 박소윤 | E120: 빛가람초등학교 | F120: 5 | G120: 여 | H120: 2012.01.28. | I120: 평영50m | K120: 여초
A121: 118 | B121: 4 | C121: 나주 | D121: 김나연 | E121: 빛가람초등학교 | F121: 6 | G121: 여 | H121: 2011.09.23. | I121: 평영100m | K121: 여초
... A206: 203 | B206: 19 | C206: 장성 | D206: 이강윤 | E206: 사창초등학교 | F206: 1 | G206: 남 | H206: 2016.03.05. | I206: 배영50m | K206: 남저
A207: 204 | B207: 19 | C207: 장성 | D207: 한 결 | E207: 사창초등학교 | F207: 2 | G207: 남 | H207: 2015.05.18. | I207: 자유형50m | K207: 남저 | L207: 번외
A208: 205 | B208: 19 | C208: 장성 | D208: 한 결 | E208: 사창초등학교 | F208: 2 | G208: 남 | H208: 2015.05.18. | I208: 배영50m | K208: 남저 | L208: 번외
A209: 206 | B209: 19 | C209: 장성 | D209: 정주원 | E209: 사창초등학교 | F209: 2 | G209: 남 | H209: 2015.11.05. | I209: 자유형50m | K209: 남저 | L209: 번외
A210: 207 | B210: 19 | C210: 장성 | D210: 정주원 | E210: 사창초등학교 | F210: 2 | G210: 남 | H210: 2015.11.05. | I210: 배영50m | K210: 남저 | L210: 번외
A211: 208 | B211: 19 | C211: 장성 | D211: 정근학 | E211: 사창초등학교 | F211: 3 | G211: 남 | H211: 2014.07.28. | I211: 평영50m | K211: 남유
A212: 209 | B212: 19 | C212: 장성 | D212: 정근학 | E212: 사창초등학교 | F212: 3 | G212: 남 | H212: 2014.07.28. | I212: 배영50m | K212: 남유
A213: 210 | B213: 19 | C213: 장성 | D213: 정근민 | E213: 사창초등학교 | F213: 4 | G213: 남 | H213: 2013.06.24. | I213: 접영50m | K213: 남유
A214: 211 | B214: 19 | C214: 장성 | D214: 정근민 | E214: 사창초등학교 | F214: 4 | G214: 남 | H214: 2013.06.24. | I214: 자유형100m | K214: 남유
A215: 212 | B215: 19 | C215: 장성 | D215: 황채원 | E215: 사창초등학교 | F215: 1 | G215: 여 | H215: 2016.06.05. | I215: 자유형50m | K215: 여저
A216: 213 | B216: 19 | C216: 장성 | D216: 황채원 | E216: 사창초등학교 | F216: 1 | G216: 여 | H216: 2016.06.05. | I216: 평영50m | K216: 여저
A217: 214 | B217: 19 | C217: 장성 | D217: 장하현 | E217: 사창초등학교 | F217: 2 | G217: 여 | H217: 2015.12.07. | I217: 자유형50m | K217: 여저
A218: 215 | B218: 19 | C218: 장성 | D218: 장하현 | E218: 사창초등학교 | F218: 2 | G218: 여 | H218: 2015.12.07. | I218: 접영50m | K218: 여저
A219: 216 | B219: 19 | C219: 장성 | D219: 박현종 | E219: 사창초등학교 | F219: 6 | G219: 남 | H219: 2011.09.29. | I219: 접영100m | K219: 남초
A220: 217 | B220: 19 | C220: 장성 | D220: 박현종 | E220: 사창초등학교 | F220: 6 | G220: 남 | H220: 2011.09.29. | I220: 개인혼영200m | K220: 남초
A221: 218 | B221: 19 | C221: 장성 | D221: 박 별 | E221: 사창초등학교 | F221: 6 | G221: 여 | H221: 2011.02.09. | I221: 접영50m | K221: 여초
A222: 219 | B222: 19 | C222: 장성 | D222: 박 별 | E222: 사창초등학교 | F222: 6 | G222: 여 | H222: 2011.02.09. | I222: 개인혼영200m | K222: 여초
... A312: 309 | B312: 1 | C312: 목포 | D312: 김동현 | E312: 목포옥암초등학교 | F312: 6 | G312: 남 | H312: 2011.07.21 | I312: 평영100m | K312: 남초
A313: 310 | B313: 1 | C313: 목포 | D313: 김시윤 | E313: 목포영산초등학교 | F313: 2 | G313: 남 | H313: 150402 | I313: 자유형50m | K313: 남저
A314: 311 | B314: 1 | C314: 목포 | D314: 김시윤 | E314: 목포영산초등학교 | F314: 2 | G314: 남 | H314: 150402 | I314: 평영50m | K314: 남저
A315: 312 | B315: 1 | C315: 목포 | D315: 허지훈 | E315: 목포영산초등학교 | F315: 2 | G315: 남 | H315: 150812 | I315: 접영50m | K315: 남저
A316: 313 | B316: 1 | C316: 목포 | D316: 염태민 | E316: 목포영산초등학교 | F316: 2 | G316: 남 | H316: 150121 | I316: 자유형50m | K316: 남저
A317: 314 | B317: 1 | C317: 목포 | D317: 염태민 | E317: 목포영산초등학교 | F317: 2 | G317: 남 | H317: 150121 | I317: 접영50m | K317: 남저
A318: 315 | B318: 1 | C318: 목포 | D318: 김지원 | E318: 목포영산초등학교 | F318: 4 | G318: 남 | H318: 130212 | I318: 자유형50m | K318: 남유
A319: 316 | B319: 1 | C319: 목포 | D319: 박재한 | E319: 목포영산초등학교 | F319: 6 | G319: 남 | H319: 110116 | I319: 평영50m | K319: 남초
A320: 317 | B320: 1 | C320: 목포 | D320: 권태희 | E320: 목포영산초등학교 | F320: 2 | G320: 여 | H320: 151109 | I320: 배영50m | K320: 여저
A321: 318 | B321: 1 | C321: 목포 | D321: 국지아 | E321: 목포영산초등학교 | F321: 2 | G321: 여 | H321: 151224 | I321: 자유형50m | K321: 여저
A322: 319 | B322: 1 | C322: 목포 | D322: 국지아 | E322: 목포영산초등학교 | F322: 2 | G322: 여 | H322: 151224 | I322: 접영50m | K322: 여저
A323: 320 | B323: 1 | C323: 목포 | D323: 허여원 | E323: 목포영산초등학교 | F323: 3 | G323: 여 | H323: 140107 | I323: 배영50m | K323: 여유
A324: 321 | B324: 1 | C324: 목포 | D324: 허여원 | E324: 목포영산초등학교 | F324: 3 | G324: 여 | H324: 140107 | I324: 평영100m | K324: 여유
... A330: 327 | B330: 1 | C330: 목포 | D330: 김현서 | E330: 목포영산초등학교 | F330: 6 | G330: 여 | H330: 110501 | I330: 접영50m | K330: 여초
A331: 328 | B331: 1 | C331: 목포 | D331: 김이준 | E331: 목포부주초등학교 | F331: 3 | G331: 남 | H331: 2014.02.03. | I331: 접영100m | K331: 남유
A332: 329 | B332: 1 | C332: 목포 | D332: 성민준 | E332: 목포부주초등학교 | F332: 4 | G332: 남 | H332: 2013.01.06. | I332: 자유형100m | K332: 남유
...

Sheet 경기순서
A1: 경기순서(1일차)
A2: 101-3 남자저학년(1~2) 자유형50m 예선
A3: 102-2 여자저학년(1~2) 자유형50m 예선
A4: 103-2 남자유년부(3~4) 자유형50m 예선
A5: 104-2 여자유년부(3~4) 자유형50m 예선
A6: 105-2 남자초등부(5~6) 자유형50m 예선
A7: 106-2 여자초등부(5~6) 자유형50m 예선
A8: 107-2 남자중등부(1~3) 자유형50m 예선
A9: 108-2 여자초등부(5~6) 접 영50m 예선
A10: 109-2 남자중등부(1~3) 접 영50m 예선
A11: 110-2 여자초등부(5~6) 평 영100m 예선
A12: 111-2 여자초등부(5~6) 배 영100m 예선
... A132: 258 여자고등부(1~3) 혼계영400m 결승

Sheet (1일차예선)
A3: 101-1 남자저학년(1~2) 자유형50m 예선
A4: 레인 | B4: 성명 | C4: 시군 | D4: 소속 | E4: 기록 | F4: 순위 | G4: 종합순 | H4: 비고
A5: 1 | B5: 구하준 | C5: 무안 | D5: 무안행복초등학교1
A6: 2 | B6: 이승환 | C6: 영암 | D6: 영암초2
A7: 3 | B7: 신준율 | C7: 해남 | D7: 해남동초등학교2
A8: 4 | B8: 이경탁 | C8: 나주 | D8: 빛가람초등학교1
A9: 5 | B9: 김하울 | C9: 화순 | D9: 화순오성초등학교2
A10: 6 | B10: 이태윤 | C10: 장성 | D10: 사창초등학교1 | F10: =IFERROR(RANK(G10,$G$5:$G$13,$G$5:$G$13),"")
A11: 7 | B11: 신도욱 | C11: 여수 | D11: 예울초등학교2 | F11: =IFERROR(RANK(G11,$G$5:$G$13,$G$5:$G$13),"")
A12: 8 | F12: =IFERROR(RANK(G12,$G$5:$G$13,$G$5:$G$13),"")
A15: 101-2 남자저학년(1~2) 자유형50m 예선
A16: 레인 | B16: 성명 | C16: 시군 | D16: 소속 | E16: 기록 | F16: 순위 | G16: 종합순 | H16: 비고
A17: 1
A18: 2 | B18: 염태민 | C18: 목포 | D18: 목포영산초등학교2
A19: 3 | B19: 이우주 | C19: 순천 | D19: 순천왕지초등학교2
A20: 4 | B20: 박건우 | C20: 영암 | D20: 영암초2
A21: 5 | B21: 서준혁 | C21: 나주 | D21: 라온초등학교2
A22: 6 | B22: 이강윤 | C22: 장성 | D22: 사창초등학교1 | F22: =IFERROR(RANK(G22,$G$5:$G$13,$G$5:$G$13),"")
A23: 7 | B23: 김강우 | C23: 무안 | D23: 무안행복초등학교2 | F23: =IFERROR(RANK(G23,$G$5:$G$13,$G$5:$G$13),"")
A24: 8 | F24: =IFERROR(RANK(G24,$G$5:$G$13,$G$5:$G$13),"")
A27: 101-3 남자저학년(1~2) 자유형50m 예선
A28: 레인 | B28: 성명 | C28: 시군 | D28: 소속 | E28: 기록 | F28: 순위 | G28: 종합순 | H28: 비고
A29: 1
A30: 2 | B30: 곽보현 | C30: 여수 | D30: 여수한려초등학교2
A31: 3 | B31: 김시윤 | C31: 목포 | D31: 목포영산초등학교2
A32: 4 | B32: 한 결 | C32: 장성 | D32: 사창초등학교2 | H32: 번외
A33: 5 | B33: 송시완 | C33: 순천 | D33: 순천신대초등학교2
A34: 6
A35: 7 | B35: 이주원 | C35: 광양 | D35: 광양중마초2 | F35: =IFERROR(RANK(G35,$G$5:$G$13,$G$5:$G$13),"")
A36: 8 | F36: =IFERROR(RANK(G36,$G$5:$G$13,$G$5:$G$13),"")
A39: 102-1 여자저학년(1~2) 자유형50m 예선
A40: 레인 | B40: 성명 | C40: 시군 | D40: 소속 | E40: 기록 | F40: 순위 | G40: 종합순 | H40: 비고
A41: 1 | B41: 박소은 | C41: 영암 | D41: 영암초1
A42: 2 | B42: 김유하 | C42: 강진 | D42: 강진중앙초등학교2
A43: 3 | B43: 이채이 | C43: 나주 | D43: 나주초등학교1
A44: 4 | B44: 장하현 | C44: 장성 | D44: 사창초등학교2
A45: 5 | B45: 김루아 | C45: 여수 | D45: 여수한려초등학교2
A46: 6 | B46: 국지아 | C46: 목포 | D46: 목포영산초등학교2 | F46: =IFERROR(RANK(G46,$G$5:$G$13,$G$5:$G$13),"")
A47: 7 | B47: 이다겸 | C47: 순천 | D47: 순천송산초등학교2 | F47: =IFERROR(RANK(G47,$G$5:$G$13,$G$5:$G$13),"")
A48: 8 | B48: 백서윤 | C48: 광양 | D48: 광양마동초2 | F48: =IFERROR(RANK(G48,$G$5:$G$13,$G$5:$G$13),"")
A51: 102-2 여자저학년(1~2) 자유형50m 예선
A52: 레인 | B52: 성명 | C52: 시군 | D52: 소속 | E52: 기록 | F52: 순위 | G52: 종합순 | H52: 비고
A53: 1 | B53: 신하은 | C53: 영암 | D53: 영암초1
A54: 2 | B54: 조윤아 | C54: 나주 | D54: 나주북초등학교2
A55: 3 | B55: 황채원 | C55: 장성 | D55: 사창초등학교1
A56: 4 | B56: 박지서 | C56: 순천 | D56: 순천신대초등학교2
A57: 5 | B57: 박서율 | C57: 광양 | D57: 광양중마초2
A58: 6 | B58: 이지안 | C58: 영암 | D58: 영암초1 | F58: =IFERROR(RANK(G58,$G$5:$G$13,$G$5:$G$13),"")
A59: 7 | B59: 문소빈 | C59: 나주 | D59: 나주초등학교2 | F59: =IFERROR(RANK(G59,$G$5:$G$13,$G$5:$G$13),"") | H59: 번외
A60: 8 | F60: =IFERROR(RANK(G60,$G$5:$G$13,$G$5:$G$13),"")
A63: 103-1 남자유년부(3~4) 자유형50m 예선
A64: 레인 | B64: 성명 | C64: 시군 | D64: 소속 | E64: 기록 | F64: 순위 | G64: 종합순 | H64: 비고
A65: 1 | B65: 유지호 | C65: 무안 | D65: 무안행복초등학교4
A66: 2 | B66: 김윤성 | C66: 영암 | D66: 영암초4
A67: 3 | B67: 김건우 | C67: 강진 | D67: 도암초등학교4
A68: 4 | B68: 신준범 | C68: 해남 | D68: 해남동초등학교4
A69: 5 | B69: 김승주 | C69: 나주 | D69: 빛누리초등학교3
A70: 6 | B70: 심재윤 | C70: 화순 | D70: 화순오성초등학교4 | F70: =IFERROR(RANK(G70,$G$5:$G$13,$G$5:$G$13),"")
A71: 7 | B71: 여서원 | C71: 여수 | D71: 여수한려초등학교3 | F71: =IFERROR(RANK(G71,$G$5:$G$13,$G$5:$G$13),"")
A72: 8 | B72: 김도영 | C72: 순천 | D72: 순천이수초등학교4 | F72: =IFERROR(RANK(G72,$G$5:$G$13,$G$5:$G$13),"")
A75: 103-2 남자유년부(3~4) 자유형50m 예선
A76: 레인 | B76: 성명 | C76: 시군 | D76: 소속 | E76: 기록 | F76: 순위 | G76: 종합순 | H76: 비고
A77: 1
A78: 2 | B78: 박승유 | C78: 해남 | D78: 해남동초등학교3
A79: 3 | B79: 김태헌 | C79: 나주 | D79: 나주중앙초등학교3
A80: 4 | B80: 정성윤 | C80: 여수 | D80: 여수한려초등학교4
A81: 5 | B81: 김지원 | C81: 목포 | D81: 목포영산초등학교3
A82: 6 | B82: 오승주 | C82: 순천 | D82: 순천신대초등학교4 | F82: =IFERROR(RANK(G82,$G$5:$G$13,$G$5:$G$13),"")
A83: 7 | B83: 오연재 | C83: 광양 | D83: 광양마로초3 | F83: =IFERROR(RANK(G83,$G$5:$G$13,$G$5:$G$13),"")
A84: 8 | F84: =IFERROR(RANK(G84,$G$5:$G$13,$G$5:$G$13),"")
A87: 104-1 여자유년부(3~4) 자유형50m 예선
A88: 레인 | B88: 성명 | C88: 시군 | D88: 소속 | E88: 기록 | F88: 순위 | G88: 종합순 | H88: 비고
A89: 1
A90: 2 | B90: 박시은 | C90: 영암 | D90: 영암초3
A91: 3 | B91: 최라임 | C91: 강진 | D91: 강진중앙초등학교4
A92: 4 | B92: 박지윤 | C92: 나주 | D92: 빛가람초등학교3
A93: 5 | B93: 임지율 | C93: 여수 | D93: 여수한려초등학교3
A94: 6 | B94: 허서진 | C94: 목포 | D94: 목포영산초등학교4 | F94: =IFERROR(RANK(G94,$G$5:$G$13,$G$5:$G$13),"")
A95: 7 | B95: 김태희 | C95: 순천 | D95: 순천용당초등학교3 | F95: =IFERROR(RANK(G95,$G$5:$G$13,$G$5:$G$13),"")
A96: 8 | F96: =IFERROR(RANK(G96,$G$5:$G$13,$G$5:$G$13),"")
A99: 104-2 여자유년부(3~4) 자유형50m 예선
A100: 레인 | B100: 성명 | C100: 시군 | D100: 소속 | E100: 기록 | F100: 순위 | G100: 종합순 | H100: 비고
A101: 1
A102: 2
A103: 3 | B103: 이지나 | C103: 나주 | D103: 빛누리초등학교3
A104: 4 | B104: 서하빈 | C104: 목포 | D104: 목포백련초등학교4
A105: 5 | B105: 한소미 | C105: 순천 | D105: 순천남산초등학교4
A106: 6 | B106: 이현정 | C106: 광양 | D106: 광양백운초4 | F106: =IFERROR(RANK(G106,$G$5:$G$13,$G$5:$G$13),"")
A107: 7 | F107: =IFERROR(RANK(G107,$G$5:$G$13,$G$5:$G$13),"")
A108: 8 | F108: =IFERROR(RANK(G108,$G$5:$G$13,$G$5:$G$13),"")
A111: 105-1 남자초등부(5~6) 자유형50m 예선
A112: 레인 | B112: 성명 | C112: 시군 | D112: 소속 | E112: 기록 | F112: 순위 | G112: 종합순 | H112: 비고
A113: 1 | B113: 김민재 | C113: 무안 | D113: 오룡초등학교5
A114: 2 | B114: 문강우 | C114: 영암 | D114: 영암초6
A115: 3 | B115: 김태운 | C115: 강진 | D115: 도암초등학교6
A116: 4 | B116: 안효준 | C116: 담양 | D116: 담양동초등학교5
A117: 5 | B117: 권규민 | C117: 나주 | D117: 라온초등학교5
A118: 6 | B118: 이무형 | C118: 화순 | D118: 능주초등학교5 | F118: =IFERROR(RANK(G118,$G$5:$G$13,$G$5:$G$13),"")
A119: 7 | B119: 마현겸 | C119: 순천 | D119: 순천용당초등학교6 | F119: =IFERROR(RANK(G119,$G$5:$G$13,$G$5:$G$13),"")
A120: 8 | F120: =IFERROR(RANK(G120,$G$5:$G$13,$G$5:$G$13),"")
...

Sheet (1일차결승)
A3: 112 남자저학년(1~2) 자유형50m 결승
A4: 레인 | B4: 성명 | C4: 시군 | D4: 소속 | E4: 기록 | F4: 순위 | G4: 종합순 | H4: 비고
A5: 1
A6: 2
A7: 3
A8: 4
A9: 5
A10: 6 | F10: =IFERROR(RANK(G10,$G$5:$G$13,$G$5:$G$13),"")
A11: 7 | F11: =IFERROR(RANK(G11,$G$5:$G$13,$G$5:$G$13),"")
A12: 8 | F12: =IFERROR(RANK(G12,$G$5:$G$13,$G$5:$G$13),"")
A15: 113 여자저학년(1~2) 자유형50m 결승
A16: 레인 | B16: 성명 | C16: 시군 | D16: 소속 | E16: 기록 | F16: 순위 | G16: 종합순 | H16: 비고
A17: 1
A18: 2
A19: 3
A20: 4
A21: 5
A22: 6 | F22: =IFERROR(RANK(G22,$G$5:$G$13,$G$5:$G$13),"")
A23: 7 | F23: =IFERROR(RANK(G23,$G$5:$G$13,$G$5:$G$13),"")
A24: 8 | F24: =IFERROR(RANK(G24,$G$5:$G$13,$G$5:$G$13),"")
A27: 114 남자유년부(3~4) 자유형50m 결승
A28: 레인 | B28: 성명 | C28: 시군 | D28: 소속 | E28: 기록 | F28: 순위 | G28: 종합순 | H28: 비고
A29: 1
A30: 2
A31: 3
A32: 4
A33: 5
A34: 6 | F34: =IFERROR(RANK(G34,$G$5:$G$13,$G$5:$G$13),"")
A35: 7 | F35: =IFERROR(RANK(G35,$G$5:$G$13,$G$5:$G$13),"")
A36: 8 | F36: =IFERROR(RANK(G36,$G$5:$G$13,$G$5:$G$13),"")
A39: 115 여자유년부(3~4) 자유형50m 결승
A40: 레인 | B40: 성명 | C40: 시군 | D40: 소속 | E40: 기록 | F40: 순위 | G40: 종합순 | H40: 비고
A41: 1
A42: 2
A43: 3
A44: 4
A45: 5
A46: 6 | F46: =IFERROR(RANK(G46,$G$5:$G$13,$G$5:$G$13),"")
A47: 7 | F47: =IFERROR(RANK(G47,$G$5:$G$13,$G$5:$G$13),"")
A48: 8 | F48: =IFERROR(RANK(G48,$G$5:$G$13,$G$5:$G$13),"")
A51: 116 남자초등부(5~6) 자유형50m 결승
A52: 레인 | B52: 성명 | C52: 시군 | D52: 소속 | E52: 기록 | F52: 순위 | G52: 종합순 | H52: 비고
A53: 1
A54: 2
A55: 3
A56: 4
A57: 5
A58: 6 | F58: =IFERROR(RANK(G58,$G$5:$G$13,$G$5:$G$13),"")
A59: 7 | F59: =IFERROR(RANK(G59,$G$5:$G$13,$G$5:$G$13),"")
A60: 8 | F60: =IFERROR(RANK(G60,$G$5:$G$13,$G$5:$G$13),"")
A63: 117 여자초등부(5~6) 자유형50m 결승
A64: 레인 | B64: 성명 | C64: 시군 | D64: 소속 | E64: 기록 | F64: 순위 | G64: 종합순 | H64: 비고
A65: 1
A66: 2
A67: 3
A68: 4
A69: 5
A70: 6 | F70: =IFERROR(RANK(G70,$G$5:$G$13,$G$5:$G$13),"")
A71: 7 | F71: =IFERROR(RANK(G71,$G$5:$G$13,$G$5:$G$13),"")
A72: 8 | F72: =IFERROR(RANK(G72,$G$5:$G$13,$G$5:$G$13),"")
A75: 118 남자중등부(1~3) 자유형50m 결승
A76: 레인 | B76: 성명 | C76: 시군 | D76: 소속 | E76: 기록 | F76: 순위 | G76: 종합순 | H76: 비고
A77: 1
A78: 2
A79: 3
A80: 4
A81: 5
A82: 6 | F82: =IFERROR(RANK(G82,$G$5:$G$13,$G$5:$G$13),"")
A83: 7 | F83: =IFERROR(RANK(G83,$G$5:$G$13,$G$5:$G$13),"")
A84: 8 | F84: =IFERROR(RANK(G84,$G$5:$G$13,$G$5:$G$13),"")
A87: 119 여자중등부(1~3) 자유형50m 결승
A88: 레인 | B88: 성명 | C88: 시군 | D88: 소속 | E88: 기록 | F88: 순위 | G88: 종합순 | H88: 비고
A89: 1 | B89: 김태희 | C89: 여수 | D89: 여수문수중학교1
A90: 2 | B90: 이예지 | C90: 목포 | D90: 목포옥암중학교2
A91: 3 | B91: 박시은 | C91: 목포 | D91: 목포애향중학교1
A92: 4 | B92: 한사랑 | C92: 순천 | D92: 순천남산중학교1
A93: 5
A94: 6 | F94: =IFERROR(RANK(G94,$G$5:$G$13,$G$5:$G$13),"")
A95: 7 | F95: =IFERROR(RANK(G95,$G$5:$G$13,$G$5:$G$13),"")
A96: 8 | F96: =IFERROR(RANK(G96,$G$5:$G$13,$G$5:$G$13),"")
A99: 120 남자고등부(1~3) 자유형50m 결승
A100: 레인 | B100: 성명 | C100: 시군 | D100: 소속 | E100: 기록 | F100: 순위 | G100: 종합순 | H100: 비고
A101: 1 | B101: 임채영 | C101: 완도 | D101: 완도수산고등학교1
A102: 2 | B102: 고성주 | C102: 구례 | D102: 전남자연과학고3
A103: 3 | B103: 정회욱 | C103: 순천 | D103: 순천금당고2
A104: 4 | B104: 한정민 | C104: 구례 | D104: 전남자연과학고3
A105: 5 | B105: 최주현 | C105: 나주 | D105: 영산고등학교1
A106: 6 | F106: =IFERROR(RANK(G106,$G$5:$G$13,$G$5:$G$13),"")
A107: 7 | F107: =IFERROR(RANK(G107,$G$5:$G$13,$G$5:$G$13),"")
A108: 8 | F108: =IFERROR(RANK(G108,$G$5:$G$13,$G$5:$G$13),"")
A111: 121 여자고등부(1~3) 자유형50m 결승
A112: 레인 | B112: 성명 | C112: 시군 | D112: 소속 | E112: 기록 | F112: 순위 | G112: 종합순 | H112: 비고
A113: 1
A114: 2
A115: 3
A116: 4
A117: 5
A118: 6 | B118: 김수연 | C118: 무안 | D118: 전남체육고등학교2 | F118: =IFERROR(RANK(G118,$G$5:$G$13,$G$5:$G$13),"")
A119: 7 | B119: 김정민 | C119: 여수 | D119: 여수중앙여자고등학교2 | F119: =IFERROR(RANK(G119,$G$5:$G$13,$G$5:$G$13),"")
A120: 8 | F120: =IFERROR(RANK(G120,$G$5:$G$13,$G$5:$G$13),"")
...

Sheet (2일차예선)
A3: 202-1 남자저학년(1~2) 평 영50m 예선
A4: 레인 | B4: 성명 | C4: 시군 | D4: 소속 | E4: 기록 | F4: 순위 | G4: 종합순 | H4: 비고
A5: 1
A6: 2 | B6: 서준혁 | C6: 나주 | D6: 라온초등학교2
A7: 3 | B7: 김하울 | C7: 화순 | D7: 화순오성초등학교2
A8: 4 | B8: 김시윤 | C8: 목포 | D8: 목포영산초등학교2
A9: 5 | B9: 노주원 | C9: 순천 | D9: 순천신대초등학교2
A10: 6 | B10: 이주원 | C10: 광양 | D10: 광양중마초2 | F10: =IFERROR(RANK(G10,$G$29:$G$37,$G$29:$G$37),"")
A11: 7 | F11: =IFERROR(RANK(G11,$G$29:$G$37,$G$29:$G$37),"")
A12: 8 | F12: =IFERROR(RANK(G12,$G$29:$G$37,$G$29:$G$37),"")
A15: 202-2 남자저학년(1~2) 평 영50m 예선
A16: 레인 | B16: 성명 | C16: 시군 | D16: 소속 | E16: 기록 | F16: 순위 | G16: 종합순 | H16: 비고
A17: 1
A18: 2 | B18: 김도완 | C18: 목포 | D18: 목포백련초등학교2
A19: 3 | B19: 김연우 | C19: 순천 | D19: 순천매안초등학교2
A20: 4 | B20: 주현도 | C20: 광양 | D20: 광양중마초2
A21: 5 | B21: 이도원 | C21: 무안 | D21: 무안행복초등학교1
A22: 6 | F22: =IFERROR(RANK(G22,$G$29:$G$37,$G$29:$G$37),"")
A23: 7 | F23: =IFERROR(RANK(G23,$G$29:$G$37,$G$29:$G$37),"")
A24: 8 | F24: =IFERROR(RANK(G24,$G$29:$G$37,$G$29:$G$37),"")
A27: 203-1 남자유년부(3~4) 평 영50m 예선
A28: 레인 | B28: 성명 | C28: 시군 | D28: 소속 | E28: 기록 | F28: 순위 | G28: 종합순 | H28: 비고
A29: 1 | B29: 박지언 | C29: 무안 | D29: 오룡초등학교3
A30: 2 | B30: 이시후 | C30: 나주 | D30: 라온초등학교4
A31: 3 | B31: 이지성 | C31: 화순 | D31: 화순오성초등학교4
A32: 4 | B32: 정근학 | C32: 장성 | D32: 사창초등학교3
A33: 5 | B33: 하이룸 | C33: 여수 | D33: 여수한려초등학교3
A34: 6 | B34: 박헌재 | C34: 목포 | D34: 광주교육대학교목포부설초등학교4 | F34: =IFERROR(RANK(G34,$G$29:$G$37,$G$29:$G$37),"")
A35: 7 | B35: 김도영 | C35: 순천 | D35: 순천이수초등학교4 | F35: =IFERROR(RANK(G35,$G$29:$G$37,$G$29:$G$37),"")
A36: 8 | F36: =IFERROR(RANK(G36,$G$29:$G$37,$G$29:$G$37),"")
A39: 203-2 남자유년부(3~4) 평 영50m 예선
A40: 레인 | B40: 성명 | C40: 시군 | D40: 소속 | E40: 기록 | F40: 순위 | G40: 종합순 | H40: 비고
A41: 1
A42: 2 | B42: 전수호 | C42: 영암 | D42: 영암초3
A43: 3 | B43: 이제헌 | C43: 나주 | D43: 빛누리초등학교3
A44: 4 | B44: 정성윤 | C44: 여수 | D44: 여수한려초등학교4
A45: 5 | B45: 김태형 | C45: 목포 | D45: 목포옥암초등학교4
A46: 6 | B46: 오승주 | C46: 순천 | D46: 순천신대초등학교4 | F46: =IFERROR(RANK(G46,$G$29:$G$37,$G$29:$G$37),"")
A47: 7 | B47: 정지우 | C47: 광양 | D47: 광양중마초4 | F47: =IFERROR(RANK(G47,$G$29:$G$37,$G$29:$G$37),"")
A48: 8 | F48: =IFERROR(RANK(G48,$G$29:$G$37,$G$29:$G$37),"")
A51: 204-1 여자유년부(3~4) 평 영50m 예선
A52: 레인 | B52: 성명 | C52: 시군 | D52: 소속 | E52: 기록 | F52: 순위 | G52: 종합순 | H52: 비고
A53: 1
A54: 2 | B54: 문승유 | C54: 영암 | D54: 영암초4
A55: 3 | B55: 이한결 | C55: 해남 | D55: 해남동초등학교4
A56: 4 | B56: 이준희 | C56: 나주 | D56: 빛누리초등학교3
A57: 5 | B57: 서하빈 | C57: 목포 | D57: 목포백련초등학교4
A58: 6 | B58: 이조이 | C58: 순천 | D58: 순천용당초등학교4 | F58: =IFERROR(RANK(G58,$G$29:$G$37,$G$29:$G$37),"")
A59: 7 | F59: =IFERROR(RANK(G59,$G$29:$G$37,$G$29:$G$37),"")
A60: 8 | F60: =IFERROR(RANK(G60,$G$29:$G$37,$G$29:$G$37),"")
A63: 204-2 여자유년부(3~4) 평 영50m 예선
A64: 레인 | B64: 성명 | C64: 시군 | D64: 소속 | E64: 기록 | F64: 순위 | G64: 종합순 | H64: 비고
A65: 1
A66: 2
A67: 3 | B67: 최지원 | C67: 나주 | D67: 라온초등학교3
A68: 4 | B68: 전수민 | C68: 여수 | D68: 여수종고초등학교4
A69: 5 | B69: 허서진 | C69: 목포 | D69: 목포영산초등학교4
A70: 6 | B70: 주서연 | C70: 광양 | D70: 광양중마초4 | F70: =IFERROR(RANK(G70,$G$29:$G$37,$G$29:$G$37),"")
A71: 7
A72: 8 | F72: =IFERROR(RANK(G72,$G$29:$G$37,$G$29:$G$37),"")
A75: 205-1 남자초등부(5~6) 평 영50m 예선
A76: 레인 | B76: 성명 | C76: 시군 | D76: 소속 | E76: 기록 | F76: 순위 | G76: 종합순 | H76: 비고
A77: 1
A78: 2 | B78: 박상후 | C78: 영암 | D78: 영암초5
A79: 3 | B79: 권규민 | C79: 나주 | D79: 라온초등학교5
A80: 4 | B80: 박태민 | C80: 화순 | D80: 화순오성초등학교5
A81: 5 | B81: 박재한 | C81: 목포 | D81: 목포영산초등학교6
A82: 6 | B82: 한승범 | C82: 순천 | D82: 순천풍덕초등학교6 | F82: =IFERROR(RANK(G82,$G$29:$G$37,$G$29:$G$37),"")
A83: 7 | F83: =IFERROR(RANK(G83,$G$29:$G$37,$G$29:$G$37),"")
A84: 8 | F84: =IFERROR(RANK(G84,$G$29:$G$37,$G$29:$G$37),"")
A87: 205-2 남자초등부(5~6) 평 영50m 예선
A88: 레인 | B88: 성명 | C88: 시군 | D88: 소속 | E88: 기록 | F88: 순위 | G88: 종합순 | H88: 비고
A89: 1
A90: 2 | B90: 김강 | C90: 화순 | D90: 화순오성초등학교6
A91: 3 | B91: 최하랑 | C91: 여수 | D91: 여수한려초등학교6
A92: 4 | B92: 김동현 | C92: 목포 | D92: 목포옥암초등학교6
A93: 5 | B93: 이지환 | C93: 순천 | D93: 순천신대초등학교6
A94: 6 | B94: 박민호 | C94: 광양 | D94: 광양마동초6 | F94: =IFERROR(RANK(G94,$G$29:$G$37,$G$29:$G$37),"")
A95: 7
A96: 8 | F96: =IFERROR(RANK(G96,$G$29:$G$37,$G$29:$G$37),"")
A99: 206-1 여자초등부(5~6) 평 영50m 예선
A100: 레인 | B100: 성명 | C100: 시군 | D100: 소속 | E100: 기록 | F100: 순위 | G100: 종합순 | H100: 비고
A101: 1
A102: 2 | B102: 정연서 | C102: 해남 | D102: 해남동초등학교6
A103: 3 | B103: 박소윤 | C103: 나주 | D103: 빛가람초등학교5
A104: 4 | B104: 이지현 | C104: 목포 | D104: 목포석현초등학교6
A105: 5 | B105: 강민아 | C105: 순천 | D105: 순천왕운초등학교5
A106: 6 | B106: 박서연 | C106: 광양 | D106: 광양중마초6 | F106: =IFERROR(RANK(G106,$G$29:$G$37,$G$29:$G$37),"")
A107: 7 | F107: =IFERROR(RANK(G107,$G$29:$G$37,$G$29:$G$37),"")
A108: 8 | F108: =IFERROR(RANK(G108,$G$29:$G$37,$G$29:$G$37),"")
A111: 206-2 여자초등부(5~6) 평 영50m 예선
A112: 레인 | B112: 성명 | C112: 시군 | D112: 소속 | E112: 기록 | F112: 순위 | G112: 종합순 | H112: 비고
A113: 1
A114: 2 | B114: 박혜원 | C114: 영암 | D114: 영암초6
A115: 3 | B115: 최은지 | C115: 해남 | D115: 해남동초등학교6
A116: 4 | B116: 강다영 | C116: 나주 | D116: 빛누리초등학교6
A117: 5 | B117: 반서진 | C117: 여수 | D117: 웅천초등학교6
A118: 6 | B118: 최시현 | C118: 목포 | D118: 목포미항초등학교5 | F118: =IFERROR(RANK(G118,$G$29:$G$37,$G$29:$G$37),"")
A119: 7 | B119: 방시은 | C119: 순천 | D119: 순천매안초등학교5
A120: 8 | F120: =IFERROR(RANK(G120,$G$29:$G$37,$G$29:$G$37),"")
...

Sheet (2일차결승)
A3: 201 남자고등부(1~3) 계 영800m 결승
A4: 레인 | B4: 성명 | C4: 시군 | D4: 소속 | E4: 기록 | F4: 순위 | G4: 종합순 | H4: 비고
A5: 1
A6: 2
A7: 3
A8: 4
A9: 5
A10: 6 | F10: =IFERROR(RANK(G10,$G$5:$G$13,$G$5:$G$13),"")
A11: 7 | F11: =IFERROR(RANK(G11,$G$5:$G$13,$G$5:$G$13),"")
A12: 8 | F12: =IFERROR(RANK(G12,$G$5:$G$13,$G$5:$G$13),"")
A15: 202 여자고등부(1~3) 계 영800m 결승
A16: 레인 | B16: 성명 | C16: 시군 | D16: 소속 | E16: 기록 | F16: 순위 | G16: 종합순 | H16: 비고
A17: 1
A18: 2
A19: 3
A20: 4
A21: 5
A22: 6 | F22: =IFERROR(RANK(G22,$G$5:$G$13,$G$5:$G$13),"")
A23: 7 | F23: =IFERROR(RANK(G23,$G$5:$G$13,$G$5:$G$13),"")
A24: 8 | F24: =IFERROR(RANK(G24,$G$5:$G$13,$G$5:$G$13),"")
A27: 213 남자저학년(1~2) 평 영50m 결승
A28: 레인 | B28: 성명 | C28: 시군 | D28: 소속 | E28: 기록 | F28: 순위 | G28: 종합순 | H28: 비고
A29: 1
A30: 2
A31: 3
A32: 4
A33: 5
A34: 6 | F34: =IFERROR(RANK(G34,$G$5:$G$13,$G$5:$G$13),"")
A35: 7 | F35: =IFERROR(RANK(G35,$G$5:$G$13,$G$5:$G$13),"")
A36: 8 | F36: =IFERROR(RANK(G36,$G$5:$G$13,$G$5:$G$13),"")
A39: 214 여자저학년(1~2) 평 영50m 결승
A40: 레인 | B40: 성명 | C40: 시군 | D40: 소속 | E40: 기록 | F40: 순위 | G40: 종합순 | H40: 비고
A41: 1 | B41: 김율희 | C41: 나주 | D41: 라온초등학교1
A42: 2 | B42: 황채원 | C42: 장성 | D42: 사창초등학교1
A43: 3 | B43: 김서현 | C43: 여수 | D43: 여수한려초등학교2
A44: 4 | B44: 이은우 | C44: 목포 | D44: 목포백련초등학교2
A45: 5 | B45: 박지서 | C45: 순천 | D45: 순천신대초등학교2
A46: 6 | B46: 조윤아 | C46: 나주 | D46: 나주북초등학교2 | F46: =IFERROR(RANK(G46,$G$5:$G$13,$G$5:$G$13),"")
A47: 7 | B47: 허채원 | C47: 순천 | D47: 순천조례초등학교2 | F47: =IFERROR(RANK(G47,$G$5:$G$13,$G$5:$G$13),"")
A48: 8 | B48: 노지윤 | C48: 광양 | D48: 광양마동초2 | F48: =IFERROR(RANK(G48,$G$5:$G$13,$G$5:$G$13),"")
A51: 215 남자유년부(3~4) 평 영50m 결승
A52: 레인 | B52: 성명 | C52: 시군 | D52: 소속 | E52: 기록 | F52: 순위 | G52: 종합순 | H52: 비고
A53: 1
A54: 2
A55: 3
A56: 4
A57: 5
A58: 6 | F58: =IFERROR(RANK(G58,$G$5:$G$13,$G$5:$G$13),"")
A59: 7 | F59: =IFERROR(RANK(G59,$G$5:$G$13,$G$5:$G$13),"")
A60: 8 | F60: =IFERROR(RANK(G60,$G$5:$G$13,$G$5:$G$13),"")
A63: 216 여자유년부(3~4) 평 영50m 결승
A64: 레인 | B64: 성명 | C64: 시군 | D64: 소속 | E64: 기록 | F64: 순위 | G64: 종합순 | H64: 비고
A65: 1
A66: 2
A67: 3
A68: 4
A69: 5
A70: 6 | F70: =IFERROR(RANK(G70,$G$5:$G$13,$G$5:$G$13),"")
A71: 7 | F71: =IFERROR(RANK(G71,$G$5:$G$13,$G$5:$G$13),"")
A72: 8 | F72: =IFERROR(RANK(G72,$G$5:$G$13,$G$5:$G$13),"")
A75: 217 남자초등부(5~6) 평 영50m 결승
A76: 레인 | B76: 성명 | C76: 시군 | D76: 소속 | E76: 기록 | F76: 순위 | G76: 종합순 | H76: 비고
A77: 1
A78: 2
A79: 3
A80: 4
A81: 5
A82: 6 | F82: =IFERROR(RANK(G82,$G$5:$G$13,$G$5:$G$13),"")
A83: 7 | F83: =IFERROR(RANK(G83,$G$5:$G$13,$G$5:$G$13),"")
A84: 8 | F84: =IFERROR(RANK(G84,$G$5:$G$13,$G$5:$G$13),"")
A87: 218 여자초등부(5~6) 평 영50m 결승
A88: 레인 | B88: 성명 | C88: 시군 | D88: 소속 | E88: 기록 | F88: 순위 | G88: 종합순 | H88: 비고
A89: 1
A90: 2
A91: 3
A92: 4
A93: 5
A94: 6 | F94: =IFERROR(RANK(G94,$G$5:$G$13,$G$5:$G$13),"")
A95: 7 | F95: =IFERROR(RANK(G95,$G$5:$G$13,$G$5:$G$13),"")
A96: 8 | F96: =IFERROR(RANK(G96,$G$5:$G$13,$G$5:$G$13),"")
A99: 219 남자중등부(1~3) 평 영50m 결승
A100: 레인 | B100: 성명 | C100: 시군 | D100: 소속 | E100: 기록 | F100: 순위 | G100: 종합순 | H100: 비고
A101: 1 | B101: 김현준 | C101: 영암 | D101: 영암중학교3
A102: 2 | B102: 양서준 | C102: 나주 | D102: 매성중학교1
A103: 3 | B103: 정강현 | C103: 광양 | D103: 전남체육중학교3
A104: 4 | B104: 김기호 | C104: 여수 | D104: 여수문수중학교2
A105: 5 | B105: 유우진 | C105: 목포 | D105: 목포애향중학교3
A106: 6 | B106: 곽영진 | C106: 순천 | D106: 순천남산중학교3 | F106: =IFERROR(RANK(G106,$G$5:$G$13,$G$5:$G$13),"")
A107: 7 | B107: 박주안 | C107: 나주 | D107: 매성중학교1 | F107: =IFERROR(RANK(G107,$G$5:$G$13,$G$5:$G$13),"")
A108: 8 | B108: 이승찬 | C108: 목포 | D108: 목포영화중학교1 | F108: =IFERROR(RANK(G108,$G$5:$G$13,$G$5:$G$13),"")
A111: 220 여자중등부(1~3) 평 영50m 결승
A112: 레인 | B112: 성명 | C112: 시군 | D112: 소속 | E112: 기록 | F112: 순위 | G112: 종합순 | H112: 비고
A113: 1 | B113: 김강유 | C113: 나주 | D113: 나주금천중학교1
A114: 2 | B114: 고태경 | C114: 여수 | D114: 여수문수중학교2
A115: 3 | B115: 정해진 | C115: 순천 | D115: 순천왕의중학교3
A116: 4 | B116: 설수정 | C116: 광양 | D116: 동광양중3
A117: 5
A118: 6 | F118: =IFERROR(RANK(G118,$G$5:$G$13,$G$5:$G$13),"")
A119: 7 | F119: =IFERROR(RANK(G119,$G$5:$G$13,$G$5:$G$13),"")
A120: 8 | F120: =IFERROR(RANK(G120,$G$5:$G$13,$G$5:$G$13),"")
...
