Workbook

Sheet 참가신청서
A1: 제30회 전라남도교육감기 시·군대항 수영대회 참가신청서
A2: 순서 | B2: 청번 | C2: 청명 | D2: 성명 | E2: 학교 | F2: 학년 | G2: 성별 | H2: 생년월일 | I2: 신청종목 | K2: 참가구분 | L2: 비고
I3: 참가종목
A4: 1 | B4: 15 | C4: 영암 | D4: 박건우 | E4: 영암초 | F4: 2 | G4: 남 | H4: 150407 | I4: 자유형50m | K4: 남저
A5: 2 | B5: 15 | C5: 영암 | D5: 박건우 | E5: 영암초 | F5: 2 | G5: 남 | H5: 150407 | I5: 배영50m | K5: 남저
A6: 3 | B6: 15 | C6: 영암 | D6: 이승환 | E6: 영암초 | F6: 2 | G6: 남 | H6: 150906 | I6: 자유형50m | K6: 남저
A7: 4 | B7: 15 | C7: 영암 | D7: 이승환 | E7: 영암초 | F7: 2 | G7: 남 | H7: 150906 | I7: 배영50m | K7: 남저
A8: 5 | B8: 15 | C8: 영암 | D8: 이지안 | E8: 영암초 | F8: 1 | G8: 여 | H8: 160305 | I8: 자유형50m | K8: 여저
A9: 6 | B9: 15 | C9: 영암 | D9: 이지안 | E9: 영암초 | F9: 1 | G9: 여 | H9: 160305 | I9: 배영50m | K9: 여저
A10: 7 | B10: 15 | C10: 영암 | D10: 신하은 | E10: 영암초 | F10: 1 | G10: 여 | H10: 160709 | I10: 자유형50m | K10: 여저
A11: 8 | B11: 15 | C11: 영암 | D11: 신하은 | E11: 영암초 | F11: 1 | G11: 여 | H11: 160709 | I11: 배영50m | K11: 여저
A12: 9 | B12: 15 | C12: 영암 | D12: 박소은 | E12: 영암초 | F12: 1 | G12: 여 | H12: 160426 | I12: 자유형50m | K12: 여저
A13: 10 | B13: 15 | C13: 영암 | D13: 박소은 | E13: 영암초 | F13: 1 | G13: 여 | H13: 160426 | I13: 배영50m | K13: 여저
A14: 11 | B14: 15 | C14: 영암 | D14: 김윤성 | E14: 영암초 | F14: 4 | G14: 남 | H14: 130614 | I14: 자유형50m | K14: 남유
A15: 12 | B15: 15 | C15: 영암 | D15: 김윤성 | E15: 영암초 | F15: 4 | G15: 남 | H15: 130614 | I15: 접영100m | K15: 남유
... A41: 38 | B41: 15 | C41: 영암 | D41: 최규온 | E41: 영암초 | F41: 5 | G41: 여 | H41: 120926 | I41: 배영50m | K41: 여초
A42: 39 | B42: 15 | C42: 영암 | D42: 김현민 | E42: 영암중학교 | F42: 1 | G42: 남 | H42: 2010.04.05 | I42: 자유형50m | K42: 남중
A43: 40 | B43: 15 | C43: 영암 | D43: 김현민 | E43: 영암중학교 | F43: 1 | G43: 남 | H43: 2010.04.05 | I43: 자유형100m | K43: 남중
A44: 41 | B44: 15 | C44: 영암 | D44: 양호 | E44: 영암중학교 | F44: 2 | G44: 남 | H44: 2009.02.01 | I44: 접영50m | K44: 남중
A45: 42 | B45: 15 | C45: 영암 | D45: 양호 | E45: 영암중학교 | F45: 2 | G45: 남 | H45: 2009.02.01 | I45: 배영100m | K45: 남중
A46: 43 | B46: 15 | C46: 영암 | D46: 김현준 | E46: 영암중학교 | F46: 3 | G46: 남 | H46: 2008.12.03 | I46: 평영50m | K46: 남중
A47: 44 | B47: 15 | C47: 영암 | D47: 김현준 | E47: 영암중학교 | F47: 3 | G47: 남 | H47: 2008.12.03 | I47: 평영100m | K47: 남중
A48: 45 | B48: 15 | C48: 영암 | D48: 이주환 | E48: 영암중학교 | F48: 3 | G48: 남 | H48: 2008.04.21 | I48: 배영50m | K48: 남중
A49: 46 | B49: 15 | C49: 영암 | D49: 이주환 | E49: 영암중학교 | F49: 3 | G49: 남 | H49: 2008.04.21 | I49: 접영100m | K49: 남중
A50: 47 | C50: 완도 | D50: 임채영 | E50: 완도수산고등학교 | F50: 1 | G50: 남 | H50: 2007.11.06 | I50: 자유형50m | K50: 남고
A51: 48 | B51: 16 | C51: 무안 | D51: 김현서 | E51: 전남체육고등학교 | F51: 1 | G51: 여 | H51: 07.05.30 | I51: 접영50m | K51: 여고
A52: 49 | B52: 16 | C52: 무안 | D52: 김현서 | E52: 전남체육고등학교 | F52: 1 | G52: 여 | H52: 07.05.30 | I52: 접영100m | K52: 여고
A53: 50 | B53: 16 | C53: 무안 | D53: 조화인 | E53: 전남체육고등학교 | F53: 1 | G53: 여 | H53: 07.07.07 | I53: 자유형100m | K53: 여고
A54: 51 | B54: 16 | C54: 무안 | D54: 조화인 | E54: 전남체육고등학교 | F54: 1 | G54: 여 | H54: 07.07.07 | I54: 자유형200m | K54: 여고
A55: 52 | B55: 16 | C55: 무안 | D55: 윤성준 | E55: 전남체육고등학교 | F55: 1 | G55: 남 | H55: 07.08.06 | I55: 평영100m | K55: 남고
A56: 53 | B56: 16 | C56: 무안 | D56: 윤성준 | E56: 전남체육고등학교 | F56: 1 | G56: 남 | H56: 07.08.06 | I56: 개인혼영200m | K56: 남고
A57: 54 | B57: 16 | C57: 무안 | D57: 강성재 | E57: 전남체육고등학교 | F57: 1 | G57: 남 | H57: 07.08.05 | I57: 자유형800m | K57: 남고
A58: 55 | B58: 16 | C58: 무안 | D58: 강성재 | E58: 전남체육고등학교 | F58: 1 | G58: 남 | H58: 07.08.05 | I58: 평영200m | K58: 남고
A59: 56 | B59: 16 | C59: 무안 | D59: 김수연 | E59: 전남체육고등학교 | F59: 2 | G59: 여 | H59: 06.01.13 | I59: 자유형50m | K59: 여고
A60: 57 | B60: 16 | C60: 무안 | D60: 김수연 | E60: 전남체육고등학교 | F60: 2 | G60: 여 | H60: 06.01.13 | I60: 배영50m | K60: 여고
A61: 58 | B61: 16 | C61: 무안 | D61: 김도윤 | E61: 전남체육고등학교 | F61: 2 | G61: 남 | H61: 06.06.30 | I61: 접영50m | K61: 남고
A62: 59 | B62: 16 | C62: 무안 | D62: 김도윤 | E62: 전남체육고등학교 | F62: 2 | G62: 남 | H62: 06.06.30 | I62: 접영100m | K62: 남고
... A81: 78 | B81: 1 | C81: 여수 | D81: 김정민 | E81: 여수중앙여자고등학교 | F81: 2 | G81: 여 | H81: 2006.06.01. | I81: 자유형100m | K81: 여고
A82: 79 | B82: 14 | C82: 해남 | D82: 신준율 | E82: 해남동초등학교 | F82: 2 | G82: 남 | H82: 150315 | I82: 배영50m | K82: 남저
A83: 80 | B83: 14 | C83: 해남 | D83: 신준율 | E83: 해남동초등학교 | F83: 2 | G83: 남 | H83: 150315 | I83: 자유형50m | K83: 남저
...

Sheet 경기순서
A1: 경기순서(1일차)
A2: 101-3 남자저학년(1~2) 자유형50m 예선
A3: 102-2 여자저학년(1~2) 자유형50m 예선
A4: 103-2 남자유년부(3~4) 자유형50m 예선
A5: 104-2 여자유년부(3~4) 자유형50m 예선
A6: 105-2 남자초등부(5~6) 자유형50m 예선
A7: 106-2 여자초등부(5~6) 자유형50m 예선
A8: 107-2 남자중등부(1~3) 자유형50m 예선
A9: 108-2 여자초등부(5~6) 접 영50m 예선
A10: 109-2 남자중등부(1~3) 접 영50m 예선
A11: 110-2 여자초등부(5~6) 평 영100m 예선
A12: 111-2 여자초등부(5~6) 배 영100m 예선
... A132: 258 여자고등부(1~3) 혼계영400m 결승

Sheet (1일차예선)
A3: 101-1 남자저학년(1~2) 자유형50m 예선
A4: 레인 | B4: 성명 | C4: 시군 | D4: 소속 | E4: 기록 | F4: 순위 | G4: 종합순 | H4: 비고
A5: 1 | B5: 구하준 | C5: 무안 | D5: 무안행복초등학교1
A6: 2 | B6: 이승환 | C6: 영암 | D6: 영암초2
A7: 3 | B7: 신준율 | C7: 해남 | D7: 해남동초등학교2
A8: 4 | B8: 이경탁 | C8: 나주 | D8: 빛가람초등학교1
A9: 5 | B9: 김하울 | C9: 화순 | D9: 화순오성초등학교2
A10: 6 | B10: 이태윤 | C10: 장성 | D10: 사창초등학교1 | F10: =IFERROR(RANK(G10,$G$5:$G$13,$G$5:$G$13),"")
A11: 7 | B11: 신도욱 | C11: 여수 | D11: 예울초등학교2 | F11: =IFERROR(RANK(G11,$G$5:$G$13,$G$5:$G$13),"")
A12: 8 | F12: =IFERROR(RANK(G12,$G$5:$G$13,$G$5:$G$13),"")
A15: 101-2 남자저학년(1~2) 자유형50m 예선
A16: 레인 | B16: 성명 | C16: 시군 | D16: 소속 | E16: 기록 | F16: 순위 | G16: 종합순 | H16: 비고
A17: 1
A18: 2 | B18: 염태민 | C18: 목포 | D18: 목포영산초등학교2
A19: 3 | B19: 이우주 | C19: 순천 | D19: 순천왕지초등학교2
A20: 4 | B20: 박건우 | C20: 영암 | D20: 영암초2
A21: 5 | B21: 서준혁 | C21: 나주 | D21: 라온초등학교2
A22: 6 | B22: 이강윤 | C22: 장성 | D22: 사창초등학교1 | F22: =IFERROR(RANK(G22,$G$5:$G$13,$G$5:$G$13),"")
A23: 7 | B23: 김강우 | C23: 무안 | D23: 무안행복초등학교2 | F23: =IFERROR(RANK(G23,$G$5:$G$13,$G$5:$G$13),"")
A24: 8 | F24: =IFERROR(RANK(G24,$G$5:$G$13,$G$5:$G$13),"")
A27: 101-3 남자저학년(1~2) 자유형50m 예선
A28: 레인 | B28: 성명 | C28: 시군 | D28: 소속 | E28: 기록 | F28: 순위 | G28: 종합순 | H28: 비고
A29: 1
A30: 2 | B30: 곽보현 | C30: 여수 | D30: 여수한려초등학교2
A31: 3 | B31: 김시윤 | C31: 목포 | D31: 목포영산초등학교2
A32: 4 | B32: 한 결 | C32: 장성 | D32: 사창초등학교2 | H32: 번외
A33: 5 | B33: 송시완 | C33: 순천 | D33: 순천신대초등학교2
A34: 6
A35: 7 | B35: 이주원 | C35: 광양 | D35: 광양중마초2 | F35: =IFERROR(RANK(G35,$G$5:$G$13,$G$5:$G$13),"")
A36: 8 | F36: =IFERROR(RANK(G36,$G$5:$G$13,$G$5:$G$13),"")
A39: 102-1 여자저학년(1~2) 자유형50m 예선
A40: 레인 | B40: 성명 | C40: 시군 | D40: 소속 | E40: 기록 | F40: 순위 | G40: 종합순 | H40: 비고
A41: 1 | B41: 박소은 | C41: 영암 | D41: 영암초1
A42: 2 | B42: 김유하 | C42: 강진 | D42: 강진중앙초등학교2
A43: 3 | B43: 이채이 | C43: 나주 | D43: 나주초등학교1
A44: 4 | B44: 장하현 | C44: 장성 | D44: 사창초등학교2
A45: 5 | B45: 김루아 | C45: 여수 | D45: 여수한려초등학교2
A46: 6 | B46: 국지아 | C46: 목포 | D46: 목포영산초등학교2 | F46: =IFERROR(RANK(G46,$G$5:$G$13,$G$5:$G$13),"")
A47: 7 | B47: 이다겸 | C47: 순천 | D47: 순천송산초등학교2 | F47: =IFERROR(RANK(G47,$G$5:$G$13,$G$5:$G$13),"")
A48: 8 | B48: 백서윤 | C48: 광양 | D48: 광양마동초2 | F48: =IFERROR(RANK(G48,$G$5:$G$13,$G$5:$G$13),"")
...

Sheet (1일차결승)
A3: 112 남자저학년(1~2) 자유형50m 결승
A4: 레인 | B4: 성명 | C4: 시군 | D4: 소속 | E4: 기록 | F4: 순위 | G4: 종합순 | H4: 비고
A5: 1
A6: 2
A7: 3
A8: 4
A9: 5
A10: 6 | F10: =IFERROR(RANK(G10,$G$5:$G$13,$G$5:$G$13),"")
A11: 7 | F11: =IFERROR(RANK(G11,$G$5:$G$13,$G$5:$G$13),"")
A12: 8 | F12: =IFERROR(RANK(G12,$G$5:$G$13,$G$5:$G$13),"")
A15: 113 여자저학년(1~2) 자유형50m 결승
A16: 레인 | B16: 성명 | C16: 시군 | D16: 소속 | E16: 기록 | F16: 순위 | G16: 종합순 | H16: 비고
A17: 1
A18: 2
A19: 3
A20: 4
A21: 5
A22: 6 | F22: =IFERROR(RANK(G22,$G$5:$G$13,$G$5:$G$13),"")
A23: 7 | F23: =IFERROR(RANK(G23,$G$5:$G$13,$G$5:$G$13),"")
A24: 8 | F24: =IFERROR(RANK(G24,$G$5:$G$13,$G$5:$G$13),"")
A27: 114 남자유년부(3~4) 자유형50m 결승
A28: 레인 | B28: 성명 | C28: 시군 | D28: 소속 | E28: 기록 | F28: 순위 | G28: 종합순 | H28: 비고
A29: 1
A30: 2
A31: 3
A32: 4
A33: 5
A34: 6 | F34: =IFERROR(RANK(G34,$G$5:$G$13,$G$5:$G$13),"")
A35: 7 | F35: =IFERROR(RANK(G35,$G$5:$G$13,$G$5:$G$13),"")
A36: 8 | F36: =IFERROR(RANK(G36,$G$5:$G$13,$G$5:$G$13),"")
A39: 115 여자유년부(3~4) 자유형50m 결승
A40: 레인 | B40: 성명 | C40: 시군 | D40: 소속 | E40: 기록 | F40: 순위 | G40: 종합순 | H40: 비고
A41: 1
A42: 2
A43: 3
A44: 4
A45: 5
A46: 6 | F46: =IFERROR(RANK(G46,$G$5:$G$13,$G$5:$G$13),"")
A47: 7 | F47: =IFERROR(RANK(G47,$G$5:$G$13,$G$5:$G$13),"")
A48: 8 | F48: =IFERROR(RANK(G48,$G$5:$G$13,$G$5:$G$13),"")
...

Sheet (2일차예선)
A3: 202-1 남자저학년(1~2) 평 영50m 예선
A4: 레인 | B4: 성명 | C4: 시군 | D4: 소속 | E4: 기록 | F4: 순위 | G4: 종합순 | H4: 비고
A5: 1
A6: 2 | B6: 서준혁 | C6: 나주 | D6: 라온초등학교2
A7: 3 | B7: 김하울 | C7: 화순 | D7: 화순오성초등학교2
A8: 4 | B8: 김시윤 | C8: 목포 | D8: 목포영산초등학교2
A9: 5 | B9: 노주원 | C9: 순천 | D9: 순천신대초등학교2
A10: 6 | B10: 이주원 | C10: 광양 | D10: 광양중마초2 | F10: =IFERROR(RANK(G10,$G$29:$G$37,$G$29:$G$37),"")
A11: 7 | F11: =IFERROR(RANK(G11,$G$29:$G$37,$G$29:$G$37),"")
A12: 8 | F12: =IFERROR(RANK(G12,$G$29:$G$37,$G$29:$G$37),"")
A15: 202-2 남자저학년(1~2) 평 영50m 예선
A16: 레인 | B16: 성명 | C16: 시군 | D16: 소속 | E16: 기록 | F16: 순위 | G16: 종합순 | H16: 비고
A17: 1
A18: 2 | B18: 김도완 | C18: 목포 | D18: 목포백련초등학교2
A19: 3 | B19: 김연우 | C19: 순천 | D19: 순천매안초등학교2
A20: 4 | B20: 주현도 | C20: 광양 | D20: 광양중마초2
A21: 5 | B21: 이도원 | C21: 무안 | D21: 무안행복초등학교1
A22: 6 | F22: =IFERROR(RANK(G22,$G$29:$G$37,$G$29:$G$37),"")
A23: 7 | F23: =IFERROR(RANK(G23,$G$29:$G$37,$G$29:$G$37),"")
A24: 8 | F24: =IFERROR(RANK(G24,$G$29:$G$37,$G$29:$G$37),"")
A27: 203-1 남자유년부(3~4) 평 영50m 예선
A28: 레인 | B28: 성명 | C28: 시군 | D28: 소속 | E28: 기록 | F28: 순위 | G28: 종합순 | H28: 비고
A29: 1 | B29: 박지언 | C29: 무안 | D29: 오룡초등학교3
A30: 2 | B30: 이시후 | C30: 나주 | D30: 라온초등학교4
A31: 3 | B31: 이지성 | C31: 화순 | D31: 화순오성초등학교4
A32: 4 | B32: 정근학 | C32: 장성 | D32: 사창초등학교3
A33: 5 | B33: 하이룸 | C33: 여수 | D33: 여수한려초등학교3
A34: 6 | B34: 박헌재 | C34: 목포 | D34: 광주교육대학교목포부설초등학교4 | F34: =IFERROR(RANK(G34,$G$29:$G$37,$G$29:$G$37),"")
A35: 7 | B35: 김도영 | C35: 순천 | D35: 순천이수초등학교4 | F35: =IFERROR(RANK(G35,$G$29:$G$37,$G$29:$G$37),"")
A36: 8 | F36: =IFERROR(RANK(G36,$G$29:$G$37,$G$29:$G$37),"")
A39: 203-2 남자유년부(3~4) 평 영50m 예선
A40: 레인 | B40: 성명 | C40: 시군 | D40: 소속 | E40: 기록 | F40: 순위 | G40: 종합순 | H40: 비고
A41: 1
A42: 2 | B42: 전수호 | C42: 영암 | D42: 영암초3
A43: 3 | B43: 이제헌 | C43: 나주 | D43: 빛누리초등학교3
A44: 4 | B44: 정성윤 | C44: 여수 | D44: 여수한려초등학교4
A45: 5 | B45: 김태형 | C45: 목포 | D45: 목포옥암초등학교4
A46: 6 | B46: 오승주 | C46: 순천 | D46: 순천신대초등학교4 | F46: =IFERROR(RANK(G46,$G$29:$G$37,$G$29:$G$37),"")
A47: 7 | B47: 정지우 | C47: 광양 | D47: 광양중마초4 | F47: =IFERROR(RANK(G47,$G$29:$G$37,$G$29:$G$37),"")
A48: 8 | F48: =IFERROR(RANK(G48,$G$29:$G$37,$G$29:$G$37),"")
...

Sheet (2일차결승)
A3: 201 남자고등부(1~3) 계 영800m 결승
A4: 레인 | B4: 성명 | C4: 시군 | D4: 소속 | E4: 기록 | F4: 순위 | G4: 종합순 | H4: 비고
A5: 1
A6: 2
A7: 3
A8: 4
A9: 5
A10: 6 | F10: =IFERROR(RANK(G10,$G$5:$G$13,$G$5:$G$13),"")
A11: 7 | F11: =IFERROR(RANK(G11,$G$5:$G$13,$G$5:$G$13),"")
A12: 8 | F12: =IFERROR(RANK(G12,$G$5:$G$13,$G$5:$G$13),"")
A15: 202 여자고등부(1~3) 계 영800m 결승
A16: 레인 | B16: 성명 | C16: 시군 | D16: 소속 | E16: 기록 | F16: 순위 | G16: 종합순 | H16: 비고
A17: 1
A18: 2
A19: 3
A20: 4
A21: 5
A22: 6 | F22: =IFERROR(RANK(G22,$G$5:$G$13,$G$5:$G$13),"")
A23: 7 | F23: =IFERROR(RANK(G23,$G$5:$G$13,$G$5:$G$13),"")
A24: 8 | F24: =IFERROR(RANK(G24,$G$5:$G$13,$G$5:$G$13),"")
A27: 213 남자저학년(1~2) 평 영50m 결승
A28: 레인 | B28: 성명 | C28: 시군 | D28: 소속 | E28: 기록 | F28: 순위 | G28: 종합순 | H28: 비고
A29: 1
A30: 2
A31: 3
A32: 4
A33: 5
A34: 6 | F34: =IFERROR(RANK(G34,$G$5:$G$13,$G$5:$G$13),"")
A35: 7 | F35: =IFERROR(RANK(G35,$G$5:$G$13,$G$5:$G$13),"")
A36: 8 | F36: =IFERROR(RANK(G36,$G$5:$G$13,$G$5:$G$13),"")
A39: 214 여자저학년(1~2) 평 영50m 결승
A40: 레인 | B40: 성명 | C40: 시군 | D40: 소속 | E40: 기록 | F40: 순위 | G40: 종합순 | H40: 비고
A41: 1 | B41: 김율희 | C41: 나주 | D41: 라온초등학교1
A42: 2 | B42: 황채원 | C42: 장성 | D42: 사창초등학교1
A43: 3 | B43: 김서현 | C43: 여수 | D43: 여수한려초등학교2
A44: 4 | B44: 이은우 | C44: 목포 | D44: 목포백련초등학교2
A45: 5 | B45: 박지서 | C45: 순천 | D45: 순천신대초등학교2
A46: 6 | B46: 조윤아 | C46: 나주 | D46: 나주북초등학교2 | F46: =IFERROR(RANK(G46,$G$5:$G$13,$G$5:$G$13),"")
A47: 7 | B47: 허채원 | C47: 순천 | D47: 순천조례초등학교2 | F47: =IFERROR(RANK(G47,$G$5:$G$13,$G$5:$G$13),"")
A48: 8 | B48: 노지윤 | C48: 광양 | D48: 광양마동초2 | F48: =IFERROR(RANK(G48,$G$5:$G$13,$G$5:$G$13),"")
...
